BEGIN:VCALENDAR
VERSION:2.0
PRODID:-//wp-events-plugin.com//7.2.3.1//EN
TZID:America/New_York
X-WR-TIMEZONE:America/New_York
BEGIN:VEVENT
UID:211@stpaulsdillsburg.com
DTSTART;TZID=America/New_York:20260225T173000
DTEND;TZID=America/New_York:20260225T181500
DTSTAMP:20260130T003433Z
URL:https://stpaulsdillsburg.com/events/lenten-soup-supper/
SUMMARY:Lenten Soup Supper
DESCRIPTION:Join us for a soup dinner and Vespers service at 6:15 PM in the
  chapel.
CATEGORIES:Service
LOCATION:St. Paul's Evangelical Lutheran Church\, 201 South Baltimore St.\,
  Dillsburg\, PA\, 17013\, United States
X-APPLE-STRUCTURED-LOCATION;VALUE=URI;X-ADDRESS=201 South Baltimore St.\, D
 illsburg\, PA\, 17013\, United States;X-APPLE-RADIUS=100;X-TITLE=St. Paul'
 s Evangelical Lutheran Church:geo:0,0
END:VEVENT
BEGIN:VTIMEZONE
TZID:America/New_York
X-LIC-LOCATION:America/New_York
BEGIN:STANDARD
DTSTART:20251102T010000
TZOFFSETFROM:-0400
TZOFFSETTO:-0500
TZNAME:EST
END:STANDARD
END:VTIMEZONE
END:VCALENDAR