BEGIN:VCALENDAR
VERSION:2.0
PRODID:-//wp-events-plugin.com//7.2.3.1//EN
TZID:America/New_York
X-WR-TIMEZONE:America/New_York
BEGIN:VEVENT
UID:216@stpaulsdillsburg.com
DTSTART;TZID=America/New_York:20260328T140000
DTEND;TZID=America/New_York:20260328T163000
DTSTAMP:20260309T001614Z
URL:https://stpaulsdillsburg.com/events/movie-matinee-samson/
SUMMARY:Movie Matinee - Samson
DESCRIPTION:The Outreach Committee is sponsoring a showing of the Samson mo
 vie in the Fellowship Hall. The screening begins at 2:00PM. All ages welco
 me!
CATEGORIES:Outreach
LOCATION:St. Paul's Evangelical Lutheran Church\, 201 South Baltimore St.\,
  Dillsburg\, PA\, 17013\, United States
X-APPLE-STRUCTURED-LOCATION;VALUE=URI;X-ADDRESS=201 South Baltimore St.\, D
 illsburg\, PA\, 17013\, United States;X-APPLE-RADIUS=100;X-TITLE=St. Paul'
 s Evangelical Lutheran Church:geo:0,0
END:VEVENT
BEGIN:VTIMEZONE
TZID:America/New_York
X-LIC-LOCATION:America/New_York
BEGIN:DAYLIGHT
DTSTART:20260308T030000
TZOFFSETFROM:-0500
TZOFFSETTO:-0400
TZNAME:EDT
END:DAYLIGHT
END:VTIMEZONE
END:VCALENDAR